BEGIN:VCALENDAR
VERSION:2.0
PRODID:-//Touch4Life - ECPv6.15.20//NONSGML v1.0//EN
CALSCALE:GREGORIAN
METHOD:PUBLISH
X-ORIGINAL-URL:https://www.touch4life.org
X-WR-CALDESC:Events for Touch4Life
REFRESH-INTERVAL;VALUE=DURATION:PT1H
X-Robots-Tag:noindex
X-PUBLISHED-TTL:PT1H
BEGIN:VTIMEZONE
TZID:UTC
BEGIN:STANDARD
TZOFFSETFROM:+0000
TZOFFSETTO:+0000
TZNAME:UTC
DTSTART:20220101T000000
END:STANDARD
END:VTIMEZONE
BEGIN:VEVENT
DTSTART;TZID=UTC:20240824T110000
DTEND;TZID=UTC:20240824T123000
DTSTAMP:20260423T163443
CREATED:20240129T201637Z
LAST-MODIFIED:20240129T201637Z
UID:4045-1724497200-1724502600@www.touch4life.org
SUMMARY:Soul-filling Our Sisters(TM) (SOS)
DESCRIPTION:Watch via www.Facebook.com/BlackDoctor.org or www.YouTube.com/BlackDoctororg.
URL:https://www.touch4life.org/event/soul-filling-our-sisterstm-sos-5/
END:VEVENT
BEGIN:VEVENT
DTSTART;TZID=UTC:20240727T110000
DTEND;TZID=UTC:20240727T123000
DTSTAMP:20260423T163443
CREATED:20240129T201533Z
LAST-MODIFIED:20240129T201533Z
UID:4043-1722078000-1722083400@www.touch4life.org
SUMMARY:Soul-filling Our Sisters(TM) (SOS)
DESCRIPTION:Watch via www.Facebook.com/BlackDoctor.org or www.YouTube.com/BlackDoctororg.
URL:https://www.touch4life.org/event/soul-filling-our-sisterstm-sos-4/
END:VEVENT
BEGIN:VEVENT
DTSTART;VALUE=DATE:20240711
DTEND;VALUE=DATE:20240712
DTSTAMP:20260423T163443
CREATED:20240129T201329Z
LAST-MODIFIED:20240129T201329Z
UID:4039-1720656000-1720742399@www.touch4life.org
SUMMARY:Black Genes Matter Tour - Dallas\, TX
DESCRIPTION:
URL:https://www.touch4life.org/event/black-genes-matter-tour-dallas-tx/
END:VEVENT
BEGIN:VEVENT
DTSTART;TZID=UTC:20240622T110000
DTEND;TZID=UTC:20240622T123000
DTSTAMP:20260423T163443
CREATED:20240129T201436Z
LAST-MODIFIED:20240129T201436Z
UID:4041-1719054000-1719059400@www.touch4life.org
SUMMARY:Soul-filling Our Sisters(TM) (SOS)
DESCRIPTION:Watch via www.Facebook.com/BlackDoctor.org or www.YouTube.com/BlackDoctororg.
URL:https://www.touch4life.org/event/soul-filling-our-sisterstm-sos-3/
END:VEVENT
BEGIN:VEVENT
DTSTART;VALUE=DATE:20240619
DTEND;VALUE=DATE:20240620
DTSTAMP:20260423T163443
CREATED:20230725T181523Z
LAST-MODIFIED:20240129T200821Z
UID:3612-1718755200-1718841599@www.touch4life.org
SUMMARY:Black Genes Matter Tour - Dallas\, TX
DESCRIPTION:
URL:https://www.touch4life.org/event/blackgenesmatter-tour/
LOCATION:Dallas\, Dallas\, TX\, United States
END:VEVENT
BEGIN:VEVENT
DTSTART;VALUE=DATE:20240613
DTEND;VALUE=DATE:20240614
DTSTAMP:20260423T163443
CREATED:20240129T201259Z
LAST-MODIFIED:20240129T201259Z
UID:4037-1718236800-1718323199@www.touch4life.org
SUMMARY:Black Genes Matter Tour - Houston\, TX
DESCRIPTION:
URL:https://www.touch4life.org/event/black-genes-matter-tour-houston-tx/
END:VEVENT
BEGIN:VEVENT
DTSTART;TZID=UTC:20240607T080000
DTEND;TZID=UTC:20240607T170000
DTSTAMP:20260423T163443
CREATED:20240519T143513Z
LAST-MODIFIED:20240519T144305Z
UID:4105-1717747200-1717779600@www.touch4life.org
SUMMARY:Touch4Life Talks - Our Founder will Present at Health Disparities in Hemetalogical Malignancies
DESCRIPTION:
URL:https://www.touch4life.org/event/touch4life-talks-our-founder-will-present-at-health-disparities-in-hemetalogical-malignancies/
LOCATION:Houston Intercontinental\, 6750 Main Street\, Houston\, Texas\, 77030\, United States
END:VEVENT
BEGIN:VEVENT
DTSTART;TZID=UTC:20240525T110000
DTEND;TZID=UTC:20240525T123000
DTSTAMP:20260423T163444
CREATED:20240129T201159Z
LAST-MODIFIED:20240129T201159Z
UID:4035-1716634800-1716640200@www.touch4life.org
SUMMARY:Soul-filling Our Sisters(TM) (SOS)
DESCRIPTION:Watch via www.Facebook.com/BlackDoctor.org or www.YouTube.com/BlackDoctororg.
URL:https://www.touch4life.org/event/soul-filling-our-sisterstm-sos-2/
END:VEVENT
BEGIN:VEVENT
DTSTART;TZID=UTC:20240518T080000
DTEND;TZID=UTC:20240518T130000
DTSTAMP:20260423T163444
CREATED:20240514T200234Z
LAST-MODIFIED:20240515T002005Z
UID:4078-1716019200-1716037200@www.touch4life.org
SUMMARY:Book Launch - "Feed Your Fight" at Survive & Thrive
DESCRIPTION:Feed Your Fight Offers Culturally Relevant Recipes and Nutritional Guidance  \nIn a united effort to make a difference\, nutritionist and wellness coach\, Sharon Hawks\, joined forces with breast cancer survivor and Touch4Life founder\, Laura Crandon\, to create a cookbook called Feed Your Fight: A Nutrition Guide with Recipes & Testimonials from Thrivers. This invaluable resource aims to provide Black women navigating the complexities of breast cancer with delicious and healthy recipes.
URL:https://www.touch4life.org/event/book-launch-feed-your-fight-at-survive-thrive/
LOCATION:BWI Marriott\, 1743 W Nursery Rd\, Linthicum Heights\, Maryland\, 21090\, United States
END:VEVENT
BEGIN:VEVENT
DTSTART;TZID=UTC:20240427T110000
DTEND;TZID=UTC:20240427T123000
DTSTAMP:20260423T163444
CREATED:20240129T201014Z
LAST-MODIFIED:20240129T201050Z
UID:4033-1714215600-1714221000@www.touch4life.org
SUMMARY:Soul-filling Our Sisters(TM) (SOS)
DESCRIPTION:Watch via www.Facebook.com/BlackDoctor.org or www.YouTube.com/BlackDoctororg.
URL:https://www.touch4life.org/event/soul-filling-our-sisterstm-sos/
END:VEVENT
BEGIN:VEVENT
DTSTART;VALUE=DATE:20240406
DTEND;VALUE=DATE:20240407
DTSTAMP:20260423T163444
CREATED:20240129T200849Z
LAST-MODIFIED:20240129T200849Z
UID:4031-1712361600-1712447999@www.touch4life.org
SUMMARY:Black Genes Matter Tour - Washington\, DC
DESCRIPTION:
URL:https://www.touch4life.org/event/black-genes-matter-tour-washington-dc/
END:VEVENT
BEGIN:VEVENT
DTSTART;VALUE=DATE:20240406
DTEND;VALUE=DATE:20240407
DTSTAMP:20260423T163444
CREATED:20240129T200743Z
LAST-MODIFIED:20240129T200743Z
UID:4028-1712361600-1712447999@www.touch4life.org
SUMMARY:Black Genes Matter Tour - Orlando\, FL
DESCRIPTION:
URL:https://www.touch4life.org/event/black-genes-matter-tour-orlando-fl/
END:VEVENT
BEGIN:VEVENT
DTSTART;VALUE=DATE:20240325
DTEND;VALUE=DATE:20240326
DTSTAMP:20260423T163444
CREATED:20240129T200652Z
LAST-MODIFIED:20240129T200652Z
UID:4026-1711324800-1711411199@www.touch4life.org
SUMMARY:Keynote Address by Touch4LIfe Founder - Indinapolis\, IN
DESCRIPTION:
URL:https://www.touch4life.org/event/keynote-address-by-touch4life-founder-indinapolis-in/
END:VEVENT
BEGIN:VEVENT
DTSTART;TZID=UTC:20240323T110000
DTEND;TZID=UTC:20240323T123000
DTSTAMP:20260423T163444
CREATED:20231121T221223Z
LAST-MODIFIED:20240129T200559Z
UID:3946-1711191600-1711197000@www.touch4life.org
SUMMARY:Soul-filling Our Sisters(TM) (SOS) - Getting the Word Out
DESCRIPTION:Watch via www.Facebook.com/BlackDoctor.org or \nwww.YouTube.com/BlackDoctororg.
URL:https://www.touch4life.org/event/soul-filling-our-sisterstm-sos-getting-the-word-out/
END:VEVENT
BEGIN:VEVENT
DTSTART;TZID=UTC:20240224T110000
DTEND;TZID=UTC:20240224T123000
DTSTAMP:20260423T163444
CREATED:20231121T221036Z
LAST-MODIFIED:20240129T200244Z
UID:3944-1708772400-1708777800@www.touch4life.org
SUMMARY:Soul-filling Our Sisters(TM) (SOS) - The Cure/The Answer
DESCRIPTION: 
URL:https://www.touch4life.org/event/soul-filling-our-sisterstm-sos-the-cure-the-answer/
END:VEVENT
BEGIN:VEVENT
DTSTART;VALUE=DATE:20240210
DTEND;VALUE=DATE:20240211
DTSTAMP:20260423T163444
CREATED:20240129T200129Z
LAST-MODIFIED:20240129T200129Z
UID:4019-1707523200-1707609599@www.touch4life.org
SUMMARY:Black Genes Matter Tour - Atlantic City\, NJ
DESCRIPTION:
URL:https://www.touch4life.org/event/black-genes-matter-tour-atlantic-city-nj/
END:VEVENT
BEGIN:VEVENT
DTSTART;VALUE=DATE:20240205
DTEND;VALUE=DATE:20240213
DTSTAMP:20260423T163444
CREATED:20230725T181320Z
LAST-MODIFIED:20230725T181750Z
UID:3609-1707091200-1707782399@www.touch4life.org
SUMMARY:#BlackGenesMatter Tour
DESCRIPTION:Exact date is TBD.
URL:https://www.touch4life.org/event/blackgenesmatter-tour-stop/
LOCATION:Atlantic City\, Atlantic City\, NJ\, United States
END:VEVENT
BEGIN:VEVENT
DTSTART;TZID=UTC:20240129T110000
DTEND;TZID=UTC:20240129T150000
DTSTAMP:20260423T163444
CREATED:20240129T200519Z
LAST-MODIFIED:20240129T200519Z
UID:4022-1706526000-1706540400@www.touch4life.org
SUMMARY:Black Genes Matter - Color of Wellness Conference
DESCRIPTION:
URL:https://www.touch4life.org/event/black-genes-matter-color-of-wellness-conference/
LOCATION:Samuel Riggs Alumni Center\, 7801 Alumni Drive\, College Park\, MD\, United States
END:VEVENT
BEGIN:VEVENT
DTSTART;TZID=UTC:20240127T110000
DTEND;TZID=UTC:20240127T123000
DTSTAMP:20260423T163444
CREATED:20231121T220858Z
LAST-MODIFIED:20231121T220858Z
UID:3942-1706353200-1706358600@www.touch4life.org
SUMMARY:Soul-filling Our Sisters(TM) (SOS) - Genomics 101
DESCRIPTION:Watch via www.Facebook.com/BlackDoctor.org or \nwww.YouTube.com/BlackDoctororg.
URL:https://www.touch4life.org/event/soul-filling-our-sisterstm-sos-genomics-101/
END:VEVENT
BEGIN:VEVENT
DTSTART;TZID=UTC:20231216T110000
DTEND;TZID=UTC:20231216T123000
DTSTAMP:20260423T163444
CREATED:20230716T210215Z
LAST-MODIFIED:20231121T220407Z
UID:3598-1702724400-1702729800@www.touch4life.org
SUMMARY:Soul-filling Our Sisters(TM) (SOS) - Talking to Providers
DESCRIPTION:Watch via www.Facebook.com/BlackDoctor.org or \nwww.YouTube.com/BlackDoctororg.
URL:https://www.touch4life.org/event/soul-filling-our-sisters-december/
END:VEVENT
BEGIN:VEVENT
DTSTART;TZID=UTC:20231209T110000
DTEND;TZID=UTC:20231209T140000
DTSTAMP:20260423T163444
CREATED:20231128T205816Z
LAST-MODIFIED:20231128T210029Z
UID:3952-1702119600-1702130400@www.touch4life.org
SUMMARY:The M.O.M.S. Tour
DESCRIPTION:Join Touch4Life at The M.O.M.S. Tour (Maternal Outcomes Matter Shower) in Calverton\, MD on December 9. We will be exhibiting at the tour stop providing educational materials on genetics and biomarkers. By showcasing our offerings\, we will play a vital role in bridging the maternal health gap and proactively addressing the disparities in maternal health that disproportionately affect women of color. \nEvent Details: \n\nDate: Saturday\, December 9\, 2023\nTime: 11:00AM – 2:00PM ET\nLocation: Kingdom Fellowship A.M.E. Church\, 11710 Beltsville Drive\, Calverton\, MD 20705\n\n  \nThe M.O.M.S. Tour is bringing together mental health professionals\, birth workers\, medical professionals\, and community members to engage in meaningful discussions on maternal health disparities and explore ways to provide resources and support for women at risk. In addition to resources for babies\, there will be dedicated resources for dads and children.   \nHelp us spread the word and create awareness about this important initiative by registering here: https://form.jotform.com/231285480162049. 
URL:https://www.touch4life.org/event/the-m-o-m-s-tour/
LOCATION:Kingdom Fellowship A.M.E. Church\, 11710 Beltsville Drive\, Calverton\, MD\, 20705\, United States
END:VEVENT
BEGIN:VEVENT
DTSTART;VALUE=DATE:20231205
DTEND;VALUE=DATE:20231209
DTSTAMP:20260423T163444
CREATED:20231114T154806Z
LAST-MODIFIED:20231114T154806Z
UID:3927-1701734400-1702079999@www.touch4life.org
SUMMARY:SABCS Alamo Breast Cancer Foundation Educational Session
DESCRIPTION:In conjunction with the intense learning experience to be had at the annual San Antonio Breast Cancer Symposium (SABCS) patient advocates in attendance\, are provided with an opportunity to interact with leading medical experts during ABCF’s three-day Hot Topics Mentor Sessions. \nTouch4Life’s Founder and President Laura Crandon will join a panel of experts at the Mentor Sessions report on the most intriguing\, valuable and/or controversial research presented that day and then take questions from the audience. The Mentor Sessions are the premier event for all advocates\, whether they attend SABCS or not\, providing them the opportunity to interact with recognized breast cancer experts in an intimate learning environment.
URL:https://www.touch4life.org/event/sabcs-alamo-breast-cancer-foundation-educational-session/
LOCATION:Henry B. González Convention Center\, 900 E. Market Street\, San Antonio\, TX\, 78205\, United States
END:VEVENT
BEGIN:VEVENT
DTSTART;TZID=UTC:20231118T110000
DTEND;TZID=UTC:20231118T123000
DTSTAMP:20260423T163444
CREATED:20230716T210108Z
LAST-MODIFIED:20231121T220230Z
UID:3596-1700305200-1700310600@www.touch4life.org
SUMMARY:Soul-filling Our Sisters(TM) (SOS)
DESCRIPTION:Watch via www.Facebook.com/BlackDoctor.org or \nwww.YouTube.com/BlackDoctororg.
URL:https://www.touch4life.org/event/soul-filling-our-sisters-november/
END:VEVENT
BEGIN:VEVENT
DTSTART;TZID=UTC:20231028T110000
DTEND;TZID=UTC:20231028T123000
DTSTAMP:20260423T163444
CREATED:20230716T205956Z
LAST-MODIFIED:20230912T144419Z
UID:3594-1698490800-1698496200@www.touch4life.org
SUMMARY:Soul-filling Our Sisters(TM) (SOS)
DESCRIPTION:Watch via www.Facebook.com/BlackDoctor.org or \nwww.YouTube.com/BlackDoctororg.
URL:https://www.touch4life.org/event/soul-filling-our-sisters-october/
END:VEVENT
BEGIN:VEVENT
DTSTART;TZID=UTC:20231019T180000
DTEND;TZID=UTC:20231019T210000
DTSTAMP:20260423T163444
CREATED:20230716T210802Z
LAST-MODIFIED:20230827T185459Z
UID:3606-1697738400-1697749200@www.touch4life.org
SUMMARY:#BlackGenesMatter: Party with a Purpose
DESCRIPTION:
URL:https://www.touch4life.org/event/black-genes-matter-kickoff/
LOCATION:The Hall CP\, 4656 Hotel Dr.\, College Park\, MD\, United States
END:VEVENT
BEGIN:VEVENT
DTSTART;TZID=UTC:20230923T110000
DTEND;TZID=UTC:20230923T123000
DTSTAMP:20260423T163444
CREATED:20230716T205855Z
LAST-MODIFIED:20230912T144652Z
UID:3592-1695466800-1695472200@www.touch4life.org
SUMMARY:Soul-filling Our Sisters(TM) (SOS)
DESCRIPTION:Watch via www.Facebook.com/BlackDoctor.org or \nwww.YouTube.com/BlackDoctororg.
URL:https://www.touch4life.org/event/soul-filling-our-sisters-september/
END:VEVENT
BEGIN:VEVENT
DTSTART;VALUE=DATE:20230908
DTEND;VALUE=DATE:20230909
DTSTAMP:20260423T163444
CREATED:20230716T210718Z
LAST-MODIFIED:20230905T182809Z
UID:3604-1694131200-1694217599@www.touch4life.org
SUMMARY:The State of Black Health Conference
DESCRIPTION:Join Touch4Life Founder and President Laura Crandon at the State of Black Health conference to speak on “The Messenger Matters: Building Cross-Sector Partnerships for Cancer Prevention and Control.” \nCancer is a major issue affecting the Black community\, particularly at younger ages. This session features a conversation about how to promote cancer prevention and control in Black communities by forming partnerships across community\, academia\, and industry. Key objectives of this session include forging effective partnerships\, elevating community narratives\, creating messaging that resonates with our communities. \nState of Black Health is where hundreds of community leaders and equity advocates from every background come to address and find solutions for the social and economic injustices that have marginalized our communities and led to deep health disparities. \nUse the event hashtags #SBH2023 and #Stateofblackhealth to create social media buzz and engage with attendees!
URL:https://www.touch4life.org/event/the-state-of-black-health-conference/
END:VEVENT
BEGIN:VEVENT
DTSTART;TZID=UTC:20230826T133000
DTEND;TZID=UTC:20230826T173000
DTSTAMP:20260423T163444
CREATED:20230716T205806Z
LAST-MODIFIED:20230716T205806Z
UID:3588-1693056600-1693071000@www.touch4life.org
SUMMARY:Runway for a Cure
DESCRIPTION:Runway for a Cure DC\, a non-profit organization\, is sponsoring its 6th Annual Fashion Show\,”Runway for a Cure DC” hosted by Guy Lambert. Our mission is to promote early detection of cancer\, help with the cost of mammograms\, and give donations to help with the financial obligations of cancer survivors. \nRunway for a Cure DC’s celebrates the lives of Breast Cancer Survivors\, encourage family and friends of those affected by Breast Cancer\, and to give back to individuals or organizations who support Breast Cancer Research\, Awareness\, and Survivors! This year’s beneficiary is Breast Care for Washington\, DC and cancer survivors who are experiencing financial challenges with household finances. The event will take place at the Crystal Gateway Marriott from 1:30 p.m.- 5:30 p.m. E.S.T. on Saturday\, August 26\, 2023. DOORS OPEN AT 1:30 PM. SHOW STARTS AT 2:00 PM. Buy a combination fashion show and Pink and White affair ticket\, and come party with us at the 20th Annual “Pink and White Breast Cancer Awareness Affair”. \nTICKET PURCHASES ARE TAX DEDUCTIBLE as we are a non-profit who donates to Breast Cancer causes. \nThe show will feature presentations from the hottest Fashion Designers in the Washington DC area with designs worn by some of the most fierce models from Washington. As usual\, our Fabulous Breast Cancer Survivors will be ripping the runway in the show!!!! \nSwag bags will be given to VIP attendees. Guests will also have a chance to win raffle giveaways. \nTickets also being sold to the 20th Annual Pink and White Affair that starts at 8 pm the same evening. \n______________________________________________________ \nRaymia Henderson\, Founder of Runway for a Cure DC\, Fashion Stylist\, and Designer\, is excited about organizing this annual event because it celebrates life and women who have been affected by Breast Cancer\, who are learning to be comfortable with their body during and after Breast Cancer treatment\, and who continue to be Fabulous Survivors! \nThis event is important because we must educate women under 50\, in particular\, because the death rate of women in this demographic has continued to rise and Breast Cancer is the second leading cause of death in women next to lung cancer. \nPlease visit our event site for more details and information about last year’s show. \nwww.runwayforacuredc.com
URL:https://www.touch4life.org/event/runway-for-a-cure/
LOCATION:Crystal Gateway Marriott\, 1700 Richmond Hwy Arlington\, Richmond\, VA\, 22202\, United States
END:VEVENT
BEGIN:VEVENT
DTSTART;TZID=UTC:20230826T120000
DTEND;TZID=UTC:20230826T170000
DTSTAMP:20260423T163444
CREATED:20230725T182227Z
LAST-MODIFIED:20230823T151638Z
UID:3620-1693051200-1693069200@www.touch4life.org
SUMMARY:National Minority Quality Forurm Cancer Stage Shifting Initiative Flint Cancer Screening and Health Fair in Flint\, Mich.
DESCRIPTION:On August 26\, the National Minority Quality Forum (NMQF)\, a nonprofit dedicated to ensuring high-risk racial and ethnic populations receive optimal health care\, is hosting a Cancer Stage Shifting Initiative Flint Cancer Screening and Health Fair in Flint\, Mich.\, with local health institutions and community leaders during the Flint Northern High School Reunion. \nThere will also be giveaways and food provided by NMQF. \n\nThe event is free. \n\n 
URL:https://www.touch4life.org/event/flint-cancer-screening-and-health-fair/
LOCATION:Flint Northern High School\, G3284 Mackin Rd.\, Flint\, MI\, 48504\, United States
END:VEVENT
BEGIN:VEVENT
DTSTART;TZID=UTC:20230826T110000
DTEND;TZID=UTC:20230826T123000
DTSTAMP:20260423T163444
CREATED:20230716T205144Z
LAST-MODIFIED:20230823T151237Z
UID:3586-1693047600-1693053000@www.touch4life.org
SUMMARY:Soul-filling Our Sisters(TM) (SOS)
DESCRIPTION:
URL:https://www.touch4life.org/event/soul-filling-our-sisterstm-sos-beauty-and-personal-care-products-impact-on-our-health-2/
END:VEVENT
END:VCALENDAR